BEGIN:VCALENDAR
VERSION:2.0
PRODID:-//Cielo Rooftop - ECPv6.11.2//NONSGML v1.0//EN
CALSCALE:GREGORIAN
METHOD:PUBLISH
X-WR-CALNAME:Cielo Rooftop
X-ORIGINAL-URL:https://cielodetroit.com
X-WR-CALDESC:Events for Cielo Rooftop
REFRESH-INTERVAL;VALUE=DURATION:PT1H
X-Robots-Tag:noindex
X-PUBLISHED-TTL:PT1H
BEGIN:VTIMEZONE
TZID:America/Detroit
BEGIN:DAYLIGHT
TZOFFSETFROM:-0500
TZOFFSETTO:-0400
TZNAME:EDT
DTSTART:20250309T070000
END:DAYLIGHT
BEGIN:STANDARD
TZOFFSETFROM:-0400
TZOFFSETTO:-0500
TZNAME:EST
DTSTART:20251102T060000
END:STANDARD
END:VTIMEZONE
BEGIN:VEVENT
DTSTART;VALUE=DATE:20250806
DTEND;VALUE=DATE:20250807
DTSTAMP:20260421T135154
CREATED:20250418T153902Z
LAST-MODIFIED:20250418T164157Z
UID:10000011-1754438400-1754524799@cielodetroit.com
SUMMARY:Cork and Board
DESCRIPTION:50% OFF Select bottles of Wine and Seasonal Charcuterie Boards
URL:https://cielodetroit.com/event/cork-and-board/2025-08-06/
END:VEVENT
BEGIN:VEVENT
DTSTART;VALUE=DATE:20250805
DTEND;VALUE=DATE:20250806
DTSTAMP:20260421T135154
CREATED:20250718T165201Z
LAST-MODIFIED:20250718T165201Z
UID:10000081-1754352000-1754438399@cielodetroit.com
SUMMARY:CLOSED FOR PRIVATE EVENT
DESCRIPTION:
URL:https://cielodetroit.com/event/happy-hour-3-2/
END:VEVENT
BEGIN:VEVENT
DTSTART;TZID=America/Detroit:20250804T160000
DTEND;TZID=America/Detroit:20250804T180000
DTSTAMP:20260421T135154
CREATED:20250418T163428Z
LAST-MODIFIED:20250421T153515Z
UID:10000080-1754323200-1754330400@cielodetroit.com
SUMMARY:Happy Hour
DESCRIPTION:See our Menu for the Drink and Food Specials
URL:https://cielodetroit.com/event/happy-hour-3/2025-08-04/
END:VEVENT
BEGIN:VEVENT
DTSTART;TZID=America/Detroit:20250803T110000
DTEND;TZID=America/Detroit:20250803T150000
DTSTAMP:20260421T135154
CREATED:20250708T180428Z
LAST-MODIFIED:20250708T180433Z
UID:10000167-1754218800-1754233200@cielodetroit.com
SUMMARY:Summer Vibes with DJ Jamez
DESCRIPTION:
URL:https://cielodetroit.com/event/skyline-sundays-2/2025-08-03/
END:VEVENT
BEGIN:VEVENT
DTSTART;VALUE=DATE:20250802
DTEND;VALUE=DATE:20250803
DTSTAMP:20260421T135154
CREATED:20250421T153057Z
LAST-MODIFIED:20250708T181407Z
UID:10000151-1754092800-1754179199@cielodetroit.com
SUMMARY:CLOSED FOR PRIVATE EVENT
DESCRIPTION:
URL:https://cielodetroit.com/event/rooftop-rhythms-6/
END:VEVENT
BEGIN:VEVENT
DTSTART;TZID=America/Detroit:20250801T210000
DTEND;TZID=America/Detroit:20250801T210000
DTSTAMP:20260421T135154
CREATED:20250418T160509Z
LAST-MODIFIED:20250708T180616Z
UID:10000135-1754082000-1754082000@cielodetroit.com
SUMMARY:DJ Corey Mission Completed
DESCRIPTION:Dance Music & Top 40 Mixes
URL:https://cielodetroit.com/event/elevated-fridays/2025-08-01/
END:VEVENT
BEGIN:VEVENT
DTSTART;TZID=America/Detroit:20250801T160000
DTEND;TZID=America/Detroit:20250801T180000
DTSTAMP:20260421T135154
CREATED:20250418T163428Z
LAST-MODIFIED:20250421T153515Z
UID:10000079-1754064000-1754071200@cielodetroit.com
SUMMARY:Happy Hour
DESCRIPTION:See our Menu for the Drink and Food Specials
URL:https://cielodetroit.com/event/happy-hour-3/2025-08-01/
END:VEVENT
BEGIN:VEVENT
DTSTART;TZID=America/Detroit:20250731T200000
DTEND;TZID=America/Detroit:20250731T220000
DTSTAMP:20260421T135154
CREATED:20250708T180858Z
LAST-MODIFIED:20250718T165056Z
UID:10000119-1753992000-1753999200@cielodetroit.com
SUMMARY:LATE OPEN 8PM
DESCRIPTION:
URL:https://cielodetroit.com/event/live-music-brian-alexander-band-2/
END:VEVENT
BEGIN:VEVENT
DTSTART;VALUE=DATE:20250731
DTEND;VALUE=DATE:20250801
DTSTAMP:20260421T135154
CREATED:20250421T153320Z
LAST-MODIFIED:20250421T153320Z
UID:10000218-1753920000-1754006399@cielodetroit.com
SUMMARY:All Day Happy Hour
DESCRIPTION:See our Menu for the Drink and Food Specials
URL:https://cielodetroit.com/event/happy-hour-4/2025-07-31/
END:VEVENT
BEGIN:VEVENT
DTSTART;TZID=America/Detroit:20250730T160000
DTEND;TZID=America/Detroit:20250730T180000
DTSTAMP:20260421T135154
CREATED:20250418T163428Z
LAST-MODIFIED:20250421T153515Z
UID:10000077-1753891200-1753898400@cielodetroit.com
SUMMARY:Happy Hour
DESCRIPTION:See our Menu for the Drink and Food Specials
URL:https://cielodetroit.com/event/happy-hour-3/2025-07-30/
END:VEVENT
BEGIN:VEVENT
DTSTART;VALUE=DATE:20250730
DTEND;VALUE=DATE:20250731
DTSTAMP:20260421T135154
CREATED:20250418T153902Z
LAST-MODIFIED:20250418T164157Z
UID:10000010-1753833600-1753919999@cielodetroit.com
SUMMARY:Cork and Board
DESCRIPTION:50% OFF Select bottles of Wine and Seasonal Charcuterie Boards
URL:https://cielodetroit.com/event/cork-and-board/2025-07-30/
END:VEVENT
BEGIN:VEVENT
DTSTART;TZID=America/Detroit:20250729T160000
DTEND;TZID=America/Detroit:20250729T180000
DTSTAMP:20260421T135154
CREATED:20250418T163428Z
LAST-MODIFIED:20250421T153515Z
UID:10000076-1753804800-1753812000@cielodetroit.com
SUMMARY:Happy Hour
DESCRIPTION:See our Menu for the Drink and Food Specials
URL:https://cielodetroit.com/event/happy-hour-3/2025-07-29/
END:VEVENT
BEGIN:VEVENT
DTSTART;TZID=America/Detroit:20250728T160000
DTEND;TZID=America/Detroit:20250728T180000
DTSTAMP:20260421T135154
CREATED:20250418T163428Z
LAST-MODIFIED:20250421T153515Z
UID:10000075-1753718400-1753725600@cielodetroit.com
SUMMARY:Happy Hour
DESCRIPTION:See our Menu for the Drink and Food Specials
URL:https://cielodetroit.com/event/happy-hour-3/2025-07-28/
END:VEVENT
BEGIN:VEVENT
DTSTART;TZID=America/Detroit:20250727T110000
DTEND;TZID=America/Detroit:20250727T150000
DTSTAMP:20260421T135154
CREATED:20250708T180428Z
LAST-MODIFIED:20250708T180433Z
UID:10000166-1753614000-1753628400@cielodetroit.com
SUMMARY:Summer Vibes with DJ Jamez
DESCRIPTION:
URL:https://cielodetroit.com/event/skyline-sundays-2/2025-07-27/
END:VEVENT
BEGIN:VEVENT
DTSTART;TZID=America/Detroit:20250726T200000
DTEND;TZID=America/Detroit:20250726T230000
DTSTAMP:20260421T135154
CREATED:20250421T153032Z
LAST-MODIFIED:20250421T153032Z
UID:10000150-1753560000-1753570800@cielodetroit.com
SUMMARY:Rooftop Rhythms
DESCRIPTION:Rooftop Rhythms featuring Jeff Canady and Soul Nyce
URL:https://cielodetroit.com/event/rooftop-rhythms-5/
END:VEVENT
BEGIN:VEVENT
DTSTART;TZID=America/Detroit:20250726T110000
DTEND;TZID=America/Detroit:20250726T160000
DTSTAMP:20260421T135154
CREATED:20250418T163618Z
LAST-MODIFIED:20250422T141110Z
UID:10000260-1753527600-1753545600@cielodetroit.com
SUMMARY:Happy Hour
DESCRIPTION:See our Menu for the Drink and Food Specials
URL:https://cielodetroit.com/event/happy-hour-2-3/2025-07-26/
END:VEVENT
BEGIN:VEVENT
DTSTART;TZID=America/Detroit:20250725T210000
DTEND;TZID=America/Detroit:20250725T210000
DTSTAMP:20260421T135154
CREATED:20250708T180937Z
LAST-MODIFIED:20250708T180937Z
UID:10000134-1753477200-1753477200@cielodetroit.com
SUMMARY:LATE OPEN 8PM - DJ Corey Mission Completed
DESCRIPTION:Dance Music & Top 40 Mixes
URL:https://cielodetroit.com/event/elevated-fridays-2/
END:VEVENT
BEGIN:VEVENT
DTSTART;TZID=America/Detroit:20250725T160000
DTEND;TZID=America/Detroit:20250725T180000
DTSTAMP:20260421T135154
CREATED:20250418T163428Z
LAST-MODIFIED:20250421T153515Z
UID:10000074-1753459200-1753466400@cielodetroit.com
SUMMARY:Happy Hour
DESCRIPTION:See our Menu for the Drink and Food Specials
URL:https://cielodetroit.com/event/happy-hour-3/2025-07-25/
END:VEVENT
BEGIN:VEVENT
DTSTART;TZID=America/Detroit:20250724T190000
DTEND;TZID=America/Detroit:20250724T220000
DTSTAMP:20260421T135154
CREATED:20250418T160352Z
LAST-MODIFIED:20250708T180531Z
UID:10000118-1753383600-1753394400@cielodetroit.com
SUMMARY:Timeless Lounge
DESCRIPTION:LIVE Music with Brian Alexander
URL:https://cielodetroit.com/event/live-music-brian-alexander-band/2025-07-24/
END:VEVENT
BEGIN:VEVENT
DTSTART;VALUE=DATE:20250724
DTEND;VALUE=DATE:20250725
DTSTAMP:20260421T135154
CREATED:20250421T153320Z
LAST-MODIFIED:20250421T153320Z
UID:10000217-1753315200-1753401599@cielodetroit.com
SUMMARY:All Day Happy Hour
DESCRIPTION:See our Menu for the Drink and Food Specials
URL:https://cielodetroit.com/event/happy-hour-4/2025-07-24/
END:VEVENT
BEGIN:VEVENT
DTSTART;TZID=America/Detroit:20250723T160000
DTEND;TZID=America/Detroit:20250723T180000
DTSTAMP:20260421T135155
CREATED:20250418T163428Z
LAST-MODIFIED:20250421T153515Z
UID:10000072-1753286400-1753293600@cielodetroit.com
SUMMARY:Happy Hour
DESCRIPTION:See our Menu for the Drink and Food Specials
URL:https://cielodetroit.com/event/happy-hour-3/2025-07-23/
END:VEVENT
BEGIN:VEVENT
DTSTART;VALUE=DATE:20250723
DTEND;VALUE=DATE:20250724
DTSTAMP:20260421T135155
CREATED:20250418T153902Z
LAST-MODIFIED:20250418T164157Z
UID:10000009-1753228800-1753315199@cielodetroit.com
SUMMARY:Cork and Board
DESCRIPTION:50% OFF Select bottles of Wine and Seasonal Charcuterie Boards
URL:https://cielodetroit.com/event/cork-and-board/2025-07-23/
END:VEVENT
BEGIN:VEVENT
DTSTART;TZID=America/Detroit:20250722T160000
DTEND;TZID=America/Detroit:20250722T180000
DTSTAMP:20260421T135155
CREATED:20250418T163428Z
LAST-MODIFIED:20250421T153515Z
UID:10000071-1753200000-1753207200@cielodetroit.com
SUMMARY:Happy Hour
DESCRIPTION:See our Menu for the Drink and Food Specials
URL:https://cielodetroit.com/event/happy-hour-3/2025-07-22/
END:VEVENT
BEGIN:VEVENT
DTSTART;TZID=America/Detroit:20250721T160000
DTEND;TZID=America/Detroit:20250721T180000
DTSTAMP:20260421T135155
CREATED:20250418T163428Z
LAST-MODIFIED:20250421T153515Z
UID:10000070-1753113600-1753120800@cielodetroit.com
SUMMARY:Happy Hour
DESCRIPTION:See our Menu for the Drink and Food Specials
URL:https://cielodetroit.com/event/happy-hour-3/2025-07-21/
END:VEVENT
BEGIN:VEVENT
DTSTART;TZID=America/Detroit:20250720T110000
DTEND;TZID=America/Detroit:20250720T150000
DTSTAMP:20260421T135155
CREATED:20250708T180428Z
LAST-MODIFIED:20250708T180433Z
UID:10000165-1753009200-1753023600@cielodetroit.com
SUMMARY:Summer Vibes with DJ Jamez
DESCRIPTION:
URL:https://cielodetroit.com/event/skyline-sundays-2/2025-07-20/
END:VEVENT
BEGIN:VEVENT
DTSTART;TZID=America/Detroit:20250719T200000
DTEND;TZID=America/Detroit:20250719T200000
DTSTAMP:20260421T135155
CREATED:20250422T142341Z
LAST-MODIFIED:20250422T142341Z
UID:10000271-1752955200-1752955200@cielodetroit.com
SUMMARY:Tropical Trio
DESCRIPTION:Steel Drum Band and Tiki Party \n$20 Cover Charge per person after 8pm \nDrink Specials/Themed Drinks
URL:https://cielodetroit.com/event/tropical-trio-2/
END:VEVENT
BEGIN:VEVENT
DTSTART;VALUE=DATE:20250719
DTEND;VALUE=DATE:20250720
DTSTAMP:20260421T135155
CREATED:20250708T181315Z
LAST-MODIFIED:20250708T181315Z
UID:10000274-1752883200-1752969599@cielodetroit.com
SUMMARY:DJ DoRohn 10 PM - 1 AM
DESCRIPTION:
URL:https://cielodetroit.com/event/dj-dorohn-10-pm-1-am-2/
END:VEVENT
BEGIN:VEVENT
DTSTART;TZID=America/Detroit:20250718T210000
DTEND;TZID=America/Detroit:20250718T210000
DTSTAMP:20260421T135155
CREATED:20250418T160509Z
LAST-MODIFIED:20250708T180616Z
UID:10000133-1752872400-1752872400@cielodetroit.com
SUMMARY:DJ Corey Mission Completed
DESCRIPTION:Dance Music & Top 40 Mixes
URL:https://cielodetroit.com/event/elevated-fridays/2025-07-18/
END:VEVENT
BEGIN:VEVENT
DTSTART;TZID=America/Detroit:20250718T160000
DTEND;TZID=America/Detroit:20250718T180000
DTSTAMP:20260421T135155
CREATED:20250418T163428Z
LAST-MODIFIED:20250421T153515Z
UID:10000069-1752854400-1752861600@cielodetroit.com
SUMMARY:Happy Hour
DESCRIPTION:See our Menu for the Drink and Food Specials
URL:https://cielodetroit.com/event/happy-hour-3/2025-07-18/
END:VEVENT
BEGIN:VEVENT
DTSTART;TZID=America/Detroit:20250717T190000
DTEND;TZID=America/Detroit:20250717T220000
DTSTAMP:20260421T135155
CREATED:20250418T160352Z
LAST-MODIFIED:20250708T180531Z
UID:10000117-1752778800-1752789600@cielodetroit.com
SUMMARY:Timeless Lounge
DESCRIPTION:LIVE Music with Brian Alexander
URL:https://cielodetroit.com/event/live-music-brian-alexander-band/2025-07-17/
END:VEVENT
END:VCALENDAR