BEGIN:VCALENDAR
VERSION:2.0
PRODID:-//Cielo Rooftop - ECPv6.11.2//NONSGML v1.0//EN
CALSCALE:GREGORIAN
METHOD:PUBLISH
X-ORIGINAL-URL:https://cielodetroit.com
X-WR-CALDESC:Events for Cielo Rooftop
REFRESH-INTERVAL;VALUE=DURATION:PT1H
X-Robots-Tag:noindex
X-PUBLISHED-TTL:PT1H
BEGIN:VTIMEZONE
TZID:America/Detroit
BEGIN:DAYLIGHT
TZOFFSETFROM:-0500
TZOFFSETTO:-0400
TZNAME:EDT
DTSTART:20250309T070000
END:DAYLIGHT
BEGIN:STANDARD
TZOFFSETFROM:-0400
TZOFFSETTO:-0500
TZNAME:EST
DTSTART:20251102T060000
END:STANDARD
END:VTIMEZONE
BEGIN:VEVENT
DTSTART;TZID=America/Detroit:20251004T110000
DTEND;TZID=America/Detroit:20251004T160000
DTSTAMP:20260420T211404
CREATED:20250418T163618Z
LAST-MODIFIED:20250422T141110Z
UID:10000270-1759575600-1759593600@cielodetroit.com
SUMMARY:Happy Hour
DESCRIPTION:See our Menu for the Drink and Food Specials
URL:https://cielodetroit.com/event/happy-hour-2-3/2025-10-04/
END:VEVENT
BEGIN:VEVENT
DTSTART;TZID=America/Detroit:20250927T110000
DTEND;TZID=America/Detroit:20250927T160000
DTSTAMP:20260420T211404
CREATED:20250418T163618Z
LAST-MODIFIED:20250422T141110Z
UID:10000269-1758970800-1758988800@cielodetroit.com
SUMMARY:Happy Hour
DESCRIPTION:See our Menu for the Drink and Food Specials
URL:https://cielodetroit.com/event/happy-hour-2-3/2025-09-27/
END:VEVENT
BEGIN:VEVENT
DTSTART;TZID=America/Detroit:20250924T160000
DTEND;TZID=America/Detroit:20250924T180000
DTSTAMP:20260420T211404
CREATED:20250418T163428Z
LAST-MODIFIED:20250421T153515Z
UID:10000249-1758729600-1758736800@cielodetroit.com
SUMMARY:Happy Hour
DESCRIPTION:See our Menu for the Drink and Food Specials
URL:https://cielodetroit.com/event/happy-hour-3/2025-09-24/
END:VEVENT
BEGIN:VEVENT
DTSTART;TZID=America/Detroit:20250923T160000
DTEND;TZID=America/Detroit:20250923T180000
DTSTAMP:20260420T211404
CREATED:20250418T163428Z
LAST-MODIFIED:20250421T153515Z
UID:10000248-1758643200-1758650400@cielodetroit.com
SUMMARY:Happy Hour
DESCRIPTION:See our Menu for the Drink and Food Specials
URL:https://cielodetroit.com/event/happy-hour-3/2025-09-23/
END:VEVENT
BEGIN:VEVENT
DTSTART;TZID=America/Detroit:20250922T160000
DTEND;TZID=America/Detroit:20250922T180000
DTSTAMP:20260420T211404
CREATED:20250418T163428Z
LAST-MODIFIED:20250421T153515Z
UID:10000247-1758556800-1758564000@cielodetroit.com
SUMMARY:Happy Hour
DESCRIPTION:See our Menu for the Drink and Food Specials
URL:https://cielodetroit.com/event/happy-hour-3/2025-09-22/
END:VEVENT
BEGIN:VEVENT
DTSTART;TZID=America/Detroit:20250921T110000
DTEND;TZID=America/Detroit:20250921T150000
DTSTAMP:20260420T211404
CREATED:20250708T180428Z
LAST-MODIFIED:20250708T180433Z
UID:10000174-1758452400-1758466800@cielodetroit.com
SUMMARY:Summer Vibes with DJ Jamez
DESCRIPTION:
URL:https://cielodetroit.com/event/skyline-sundays-2/2025-09-21/
END:VEVENT
BEGIN:VEVENT
DTSTART;TZID=America/Detroit:20250920T200000
DTEND;TZID=America/Detroit:20250920T230000
DTSTAMP:20260420T211404
CREATED:20250418T160706Z
LAST-MODIFIED:20250418T160706Z
UID:10000158-1758398400-1758409200@cielodetroit.com
SUMMARY:Rooftop Rhythms
DESCRIPTION:Featuring the Best of Detroit Jazz Artists
URL:https://cielodetroit.com/event/rooftop-rhythms/2025-09-20/
END:VEVENT
BEGIN:VEVENT
DTSTART;TZID=America/Detroit:20250920T110000
DTEND;TZID=America/Detroit:20250920T160000
DTSTAMP:20260420T211404
CREATED:20250418T163618Z
LAST-MODIFIED:20250422T141110Z
UID:10000268-1758366000-1758384000@cielodetroit.com
SUMMARY:Happy Hour
DESCRIPTION:See our Menu for the Drink and Food Specials
URL:https://cielodetroit.com/event/happy-hour-2-3/2025-09-20/
END:VEVENT
BEGIN:VEVENT
DTSTART;TZID=America/Detroit:20250919T210000
DTEND;TZID=America/Detroit:20250919T210000
DTSTAMP:20260420T211404
CREATED:20250418T160509Z
LAST-MODIFIED:20250708T180616Z
UID:10000142-1758315600-1758315600@cielodetroit.com
SUMMARY:DJ Corey Mission Completed
DESCRIPTION:Dance Music & Top 40 Mixes
URL:https://cielodetroit.com/event/elevated-fridays/2025-09-19/
END:VEVENT
BEGIN:VEVENT
DTSTART;TZID=America/Detroit:20250919T160000
DTEND;TZID=America/Detroit:20250919T180000
DTSTAMP:20260420T211404
CREATED:20250418T163428Z
LAST-MODIFIED:20250421T153515Z
UID:10000246-1758297600-1758304800@cielodetroit.com
SUMMARY:Happy Hour
DESCRIPTION:See our Menu for the Drink and Food Specials
URL:https://cielodetroit.com/event/happy-hour-3/2025-09-19/
END:VEVENT
BEGIN:VEVENT
DTSTART;TZID=America/Detroit:20250918T190000
DTEND;TZID=America/Detroit:20250918T220000
DTSTAMP:20260420T211404
CREATED:20250418T160352Z
LAST-MODIFIED:20250708T180531Z
UID:10000126-1758222000-1758232800@cielodetroit.com
SUMMARY:Timeless Lounge
DESCRIPTION:LIVE Music with Brian Alexander
URL:https://cielodetroit.com/event/live-music-brian-alexander-band/2025-09-18/
END:VEVENT
BEGIN:VEVENT
DTSTART;VALUE=DATE:20250918
DTEND;VALUE=DATE:20250919
DTSTAMP:20260420T211404
CREATED:20250421T153320Z
LAST-MODIFIED:20250421T153320Z
UID:10000225-1758153600-1758239999@cielodetroit.com
SUMMARY:All Day Happy Hour
DESCRIPTION:See our Menu for the Drink and Food Specials
URL:https://cielodetroit.com/event/happy-hour-4/2025-09-18/
END:VEVENT
BEGIN:VEVENT
DTSTART;TZID=America/Detroit:20250917T160000
DTEND;TZID=America/Detroit:20250917T180000
DTSTAMP:20260420T211404
CREATED:20250418T163428Z
LAST-MODIFIED:20250421T153515Z
UID:10000245-1758124800-1758132000@cielodetroit.com
SUMMARY:Happy Hour
DESCRIPTION:See our Menu for the Drink and Food Specials
URL:https://cielodetroit.com/event/happy-hour-3/2025-09-17/
END:VEVENT
BEGIN:VEVENT
DTSTART;VALUE=DATE:20250917
DTEND;VALUE=DATE:20250918
DTSTAMP:20260420T211404
CREATED:20250418T153902Z
LAST-MODIFIED:20250418T164157Z
UID:10000017-1758067200-1758153599@cielodetroit.com
SUMMARY:Cork and Board
DESCRIPTION:50% OFF Select bottles of Wine and Seasonal Charcuterie Boards
URL:https://cielodetroit.com/event/cork-and-board/2025-09-17/
END:VEVENT
BEGIN:VEVENT
DTSTART;TZID=America/Detroit:20250916T160000
DTEND;TZID=America/Detroit:20250916T180000
DTSTAMP:20260420T211404
CREATED:20250418T163428Z
LAST-MODIFIED:20250421T153515Z
UID:10000244-1758038400-1758045600@cielodetroit.com
SUMMARY:Happy Hour
DESCRIPTION:See our Menu for the Drink and Food Specials
URL:https://cielodetroit.com/event/happy-hour-3/2025-09-16/
END:VEVENT
BEGIN:VEVENT
DTSTART;TZID=America/Detroit:20250915T160000
DTEND;TZID=America/Detroit:20250915T180000
DTSTAMP:20260420T211404
CREATED:20250418T163428Z
LAST-MODIFIED:20250421T153515Z
UID:10000243-1757952000-1757959200@cielodetroit.com
SUMMARY:Happy Hour
DESCRIPTION:See our Menu for the Drink and Food Specials
URL:https://cielodetroit.com/event/happy-hour-3/2025-09-15/
END:VEVENT
BEGIN:VEVENT
DTSTART;TZID=America/Detroit:20250914T110000
DTEND;TZID=America/Detroit:20250914T150000
DTSTAMP:20260420T211404
CREATED:20250708T180428Z
LAST-MODIFIED:20250708T180433Z
UID:10000173-1757847600-1757862000@cielodetroit.com
SUMMARY:Summer Vibes with DJ Jamez
DESCRIPTION:
URL:https://cielodetroit.com/event/skyline-sundays-2/2025-09-14/
END:VEVENT
BEGIN:VEVENT
DTSTART;TZID=America/Detroit:20250913T200000
DTEND;TZID=America/Detroit:20250913T230000
DTSTAMP:20260420T211404
CREATED:20250418T160706Z
LAST-MODIFIED:20250418T160706Z
UID:10000157-1757793600-1757804400@cielodetroit.com
SUMMARY:Rooftop Rhythms
DESCRIPTION:Featuring the Best of Detroit Jazz Artists
URL:https://cielodetroit.com/event/rooftop-rhythms/2025-09-13/
END:VEVENT
BEGIN:VEVENT
DTSTART;TZID=America/Detroit:20250913T110000
DTEND;TZID=America/Detroit:20250913T160000
DTSTAMP:20260420T211404
CREATED:20250418T163618Z
LAST-MODIFIED:20250422T141110Z
UID:10000267-1757761200-1757779200@cielodetroit.com
SUMMARY:Happy Hour
DESCRIPTION:See our Menu for the Drink and Food Specials
URL:https://cielodetroit.com/event/happy-hour-2-3/2025-09-13/
END:VEVENT
BEGIN:VEVENT
DTSTART;TZID=America/Detroit:20250912T210000
DTEND;TZID=America/Detroit:20250912T210000
DTSTAMP:20260420T211404
CREATED:20250418T160509Z
LAST-MODIFIED:20250708T180616Z
UID:10000141-1757710800-1757710800@cielodetroit.com
SUMMARY:DJ Corey Mission Completed
DESCRIPTION:Dance Music & Top 40 Mixes
URL:https://cielodetroit.com/event/elevated-fridays/2025-09-12/
END:VEVENT
BEGIN:VEVENT
DTSTART;TZID=America/Detroit:20250912T160000
DTEND;TZID=America/Detroit:20250912T180000
DTSTAMP:20260420T211404
CREATED:20250418T163428Z
LAST-MODIFIED:20250421T153515Z
UID:10000242-1757692800-1757700000@cielodetroit.com
SUMMARY:Happy Hour
DESCRIPTION:See our Menu for the Drink and Food Specials
URL:https://cielodetroit.com/event/happy-hour-3/2025-09-12/
END:VEVENT
BEGIN:VEVENT
DTSTART;TZID=America/Detroit:20250911T190000
DTEND;TZID=America/Detroit:20250911T220000
DTSTAMP:20260420T211404
CREATED:20250418T160352Z
LAST-MODIFIED:20250708T180531Z
UID:10000125-1757617200-1757628000@cielodetroit.com
SUMMARY:Timeless Lounge
DESCRIPTION:LIVE Music with Brian Alexander
URL:https://cielodetroit.com/event/live-music-brian-alexander-band/2025-09-11/
END:VEVENT
BEGIN:VEVENT
DTSTART;VALUE=DATE:20250911
DTEND;VALUE=DATE:20250912
DTSTAMP:20260420T211404
CREATED:20250421T153320Z
LAST-MODIFIED:20250421T153320Z
UID:10000224-1757548800-1757635199@cielodetroit.com
SUMMARY:All Day Happy Hour
DESCRIPTION:See our Menu for the Drink and Food Specials
URL:https://cielodetroit.com/event/happy-hour-4/2025-09-11/
END:VEVENT
BEGIN:VEVENT
DTSTART;TZID=America/Detroit:20250910T160000
DTEND;TZID=America/Detroit:20250910T180000
DTSTAMP:20260420T211404
CREATED:20250418T163428Z
LAST-MODIFIED:20250421T153515Z
UID:10000241-1757520000-1757527200@cielodetroit.com
SUMMARY:Happy Hour
DESCRIPTION:See our Menu for the Drink and Food Specials
URL:https://cielodetroit.com/event/happy-hour-3/2025-09-10/
END:VEVENT
BEGIN:VEVENT
DTSTART;VALUE=DATE:20250910
DTEND;VALUE=DATE:20250911
DTSTAMP:20260420T211404
CREATED:20250418T153902Z
LAST-MODIFIED:20250418T164157Z
UID:10000016-1757462400-1757548799@cielodetroit.com
SUMMARY:Cork and Board
DESCRIPTION:50% OFF Select bottles of Wine and Seasonal Charcuterie Boards
URL:https://cielodetroit.com/event/cork-and-board/2025-09-10/
END:VEVENT
BEGIN:VEVENT
DTSTART;VALUE=DATE:20250909
DTEND;VALUE=DATE:20250910
DTSTAMP:20260420T211404
CREATED:20250815T125803Z
LAST-MODIFIED:20250815T125803Z
UID:10000240-1757376000-1757462399@cielodetroit.com
SUMMARY:CLOSED FOR PRIVATE EVENT
DESCRIPTION:
URL:https://cielodetroit.com/event/happy-hour-3-5/
END:VEVENT
BEGIN:VEVENT
DTSTART;VALUE=DATE:20250908
DTEND;VALUE=DATE:20250909
DTSTAMP:20260420T211404
CREATED:20250815T125754Z
LAST-MODIFIED:20250815T125754Z
UID:10000239-1757289600-1757375999@cielodetroit.com
SUMMARY:CLOSED FOR PRIVATE EVENT
DESCRIPTION:
URL:https://cielodetroit.com/event/happy-hour-3-4/
END:VEVENT
BEGIN:VEVENT
DTSTART;TZID=America/Detroit:20250907T110000
DTEND;TZID=America/Detroit:20250907T150000
DTSTAMP:20260420T211404
CREATED:20250708T180428Z
LAST-MODIFIED:20250708T180433Z
UID:10000172-1757242800-1757257200@cielodetroit.com
SUMMARY:Summer Vibes with DJ Jamez
DESCRIPTION:
URL:https://cielodetroit.com/event/skyline-sundays-2/2025-09-07/
END:VEVENT
BEGIN:VEVENT
DTSTART;TZID=America/Detroit:20250906T210000
DTEND;TZID=America/Detroit:20250906T210000
DTSTAMP:20260420T211404
CREATED:20250422T142655Z
LAST-MODIFIED:20250422T142714Z
UID:10000272-1757192400-1757192400@cielodetroit.com
SUMMARY:Good Gravy
DESCRIPTION:$20 Cover Charge per person after 8pm
URL:https://cielodetroit.com/event/good-gravy-2/
END:VEVENT
BEGIN:VEVENT
DTSTART;TZID=America/Detroit:20250905T210000
DTEND;TZID=America/Detroit:20250905T210000
DTSTAMP:20260420T211404
CREATED:20250418T160509Z
LAST-MODIFIED:20250708T180616Z
UID:10000140-1757106000-1757106000@cielodetroit.com
SUMMARY:DJ Corey Mission Completed
DESCRIPTION:Dance Music & Top 40 Mixes
URL:https://cielodetroit.com/event/elevated-fridays/2025-09-05/
END:VEVENT
END:VCALENDAR